BEGIN:VCALENDAR
VERSION:2.0
PRODID:-//128.127.71.132//NONSGML kigkonsult.se iCalcreator 2.20//
CALSCALE:GREGORIAN
METHOD:PUBLISH
X-WR-TIMEZONE:Europe/Berlin
BEGIN:VEVENT
UID:event438@Feuerwehr Vilslern
DTSTAMP:20260424T111803Z
CATEGORIES:Übung
DESCRIPTION:Vorbereitung Maifeier\nKategorie: Übung\nICS-Link: https://feue
 rwehr-vilslern.de/index.php?option=com_jem&view=event&id=438:vorbereitung-
 maifeier\n
DTSTART;TZID=Europe/Berlin:20260429T180000
DTEND;TZID=Europe/Berlin:20260429T180000
SUMMARY:Vorbereitung Maifeier
URL:https://feuerwehr-vilslern.de/index.php?option=com_jem&view=event&id=43
 8:vorbereitung-maifeier
END:VEVENT
END:VCALENDAR