BEGIN:VCALENDAR
VERSION:2.0
PRODID:-//128.127.71.132//NONSGML kigkonsult.se iCalcreator 2.20//
CALSCALE:GREGORIAN
METHOD:PUBLISH
X-WR-TIMEZONE:Europe/Berlin
BEGIN:VEVENT
UID:event437@Feuerwehr Vilslern
DTSTAMP:20260424T111804Z
CATEGORIES:Übung
DESCRIPTION:Funkübung Sadlstadter\nKategorie: Übung\nICS-Link: https://feue
 rwehr-vilslern.de/index.php?option=com_jem&view=event&id=437:funkuebung-sa
 dlstadter\n
DTSTART;TZID=Europe/Berlin:20260427T193000
DTEND;TZID=Europe/Berlin:20260427T193000
SUMMARY:Funkübung Sadlstadter
URL:https://feuerwehr-vilslern.de/index.php?option=com_jem&view=event&id=43
 7:funkuebung-sadlstadter
END:VEVENT
END:VCALENDAR